BEGIN:VCALENDAR
VERSION:2.0
PRODID:-//hacksw/handcal//NONSGML v1.0//EN
CALSCALE:GREGORIAN
BEGIN:VEVENT
LOCATION:Tassel Ridge Winery\, 1681 220th St.\, Leighton\, IA
DESCRIPTION:
DTSTART:20240525T110000
DTEND:20240525T200000
SUMMARY:Wine &amp\; Wood Fired Oven Pizza Day at Tassel Ridge Winery
URL;VALUE=URI:https://www.visitpella.com/events/wine_wood_fired_oven_pizza_day_at_tassel_ridge_winery/2024-05-25/
DTSTAMP:20260419T075354
UID:69e4d062df1d4
END:VEVENT
END:VCALENDAR