BEGIN:VCALENDAR
VERSION:2.0
PRODID:-//hacksw/handcal//NONSGML v1.0//EN
CALSCALE:GREGORIAN
BEGIN:VEVENT
LOCATION:Downtown Pella \, Downtown Pella\, Pella\, IA
DESCRIPTION:
DTSTART:20240831T100000
DTEND:20240831T160000
SUMMARY:Sip\, Shop &amp\; Savor the Tastes of Pella
URL;VALUE=URI:https://www.visitpella.com/events/sip_shop_savor_the_tastes_of_pella/2024-08-31/
DTSTAMP:20260420T194920
UID:69e6c99059010
END:VEVENT
END:VCALENDAR