BEGIN:VCALENDAR
VERSION:2.0
PRODID:-//hacksw/handcal//NONSGML v1.0//EN
CALSCALE:GREGORIAN
BEGIN:VEVENT
LOCATION:Red Rock Visitor Center\, 1105 N HWY T15\, Knoxville\, IA
DESCRIPTION:
DTSTART:20240821T130000
DTEND:20240821T143000
SUMMARY:Lake Red Rock: Historic Town of Red Rock
URL;VALUE=URI:https://www.visitpella.com/events/lake_red_rock_historic_town_of_red_rock/2024-08-21/
DTSTAMP:20260423T130932
UID:69ea605cd9f97
END:VEVENT
END:VCALENDAR