BEGIN:VCALENDAR
VERSION:2.0
PRODID:-//hacksw/handcal//NONSGML v1.0//EN
CALSCALE:GREGORIAN
BEGIN:VEVENT
LOCATION:The Wijn House\, 615 Franklin St.\, Pella\, IA
DESCRIPTION:
DTSTART:20260424T193000
DTEND:20260424T210000
SUMMARY:Ember Release After Hours
URL;VALUE=URI:https://www.visitpella.com/events/ember_release_after_hours/2026-04-24/
DTSTAMP:20260422T065446
UID:69e8b7068878b
END:VEVENT
END:VCALENDAR